BEGIN:VCALENDAR
VERSION:2.0
PRODID:-//ChamberMaster//Event Calendar 2.0//EN
METHOD:PUBLISH
X-PUBLISHED-TTL:P1H
REFRESH-INTERVAL:P1H
CALSCALE:GREGORIAN
BEGIN:VTIMEZONE
TZID:America/Los_Angeles
BEGIN:DAYLIGHT
RRULE:FREQ=YEARLY;BYMONTH=3;BYDAY=2SU
DTSTART:20070101T000000
TZOFFSETFROM:-0800
TZOFFSETTO:-0700
TZNAME:Pacific Daylight Time
END:DAYLIGHT
BEGIN:STANDARD
RRULE:FREQ=YEARLY;BYMONTH=11;BYDAY=1SU
DTSTART:20070101T000000
TZOFFSETFROM:-0700
TZOFFSETTO:-0800
TZNAME:Pacific Standard Time
END:STANDARD
END:VTIMEZONE
BEGIN:VEVENT
DTSTART;TZID=America/Los_Angeles:20251019T150000
DTEND;TZID=America/Los_Angeles:20251019T170000
X-MICROSOFT-CDO-ALLDAYEVENT:FALSE
SUMMARY:Auburn Winds Concert Band Presents “Our American Heritage”
DESCRIPTION:Auburn Winds Concert Band invites you to join them in exploring America's musical heritage at 3:00 PM on Sunday\, October 19\, 2025.  Conductor Jim Kepfer will lead a wide-ranging program of music by American composers\, including "Suite of Old American Dances\," "How the West Was Won\," "Swing's The Thing\," "Amazing Grace\," and more.\nThe family-friendly concert will take place in the Placer High School Theater\, near High and Agard Streets in Auburn.  Auburn Winds\, a 501(c)(3) nonprofit organization\, is a community band with 40 volunteer musicians of all ages.  In 2016 it was proclaimed the Official Town Band of Auburn.  Concert admission is free\, with donations gratefully accepted.\nFor more information\, please visit auburnwinds.org or facebook.com/AuburnWinds1
X-ALT-DESC;FMTTYPE=text/html:<!DOCTYPE html><html><head><title></title></head><body aria-disabled="false"><p>Auburn Winds Concert Band invites you to join them in exploring America&#39\;s musical heritage at 3:00 PM on Sunday\, October 19\, 2025. &nbsp\;Conductor Jim Kepfer will lead a wide-ranging program of music by American composers\, including &quot\;Suite of Old American Dances\,&quot\; &quot\;How the West Was Won\,&quot\; &quot\;Swing&rsquo\;s The Thing\,&quot\; &quot\;Amazing Grace\,&quot\; and more.</p><p><br></p><p>The family-friendly concert will take place in the <span style="color: rgb(0\, 0\, 0)\; font-family: Arial\; font-size: medium\; font-style: normal\; font-variant-ligatures: normal\; font-variant-caps: normal\; font-weight: 400\; letter-spacing: normal\; orphans: 2\; text-align: start\; text-indent: 0px\; text-transform: none\; widows: 2\; word-spacing: 0px\; -webkit-text-stroke-width: 0px\; white-space: normal\; text-decoration-thickness: initial\; text-decoration-style: initial\; text-decoration-color: initial\; display: inline !important\; float: none\;">Placer High School Theater\, near High and Agard Streets in Auburn</span>. &nbsp\;Auburn Winds\, a 501(c)(3) nonprofit organization\, is a community band with 40 volunteer musicians of all ages. &nbsp\;In 2016 it was proclaimed the Official Town Band of Auburn. &nbsp\;Concert admission is free\, with donations gratefully accepted.</p><p><br></p><p>For more information\, please visit auburnwinds.org or facebook.com/AuburnWinds1</p></body></html>
LOCATION:
UID:e.4194.1287134
SEQUENCE:3
DTSTAMP:20260421T082135Z
URL:https://business.auburnchamber.net/chamber-events/Details/auburn-winds-concert-band-presents-our-american-heritage-1507274?sourceTypeId=Hub
END:VEVENT
END:VCALENDAR
