BEGIN:VCALENDAR
VERSION:2.0
PRODID:-//ChamberMaster//Event Calendar 2.0//EN
METHOD:PUBLISH
X-PUBLISHED-TTL:P1H
REFRESH-INTERVAL:P1H
CALSCALE:GREGORIAN
BEGIN:VTIMEZONE
TZID:America/Los_Angeles
BEGIN:DAYLIGHT
RRULE:FREQ=YEARLY;BYMONTH=3;BYDAY=2SU
DTSTART:20070101T000000
TZOFFSETFROM:-0800
TZOFFSETTO:-0700
TZNAME:Pacific Daylight Time
END:DAYLIGHT
BEGIN:STANDARD
RRULE:FREQ=YEARLY;BYMONTH=11;BYDAY=1SU
DTSTART:20070101T000000
TZOFFSETFROM:-0700
TZOFFSETTO:-0800
TZNAME:Pacific Standard Time
END:STANDARD
END:VTIMEZONE
BEGIN:VEVENT
DTSTART;TZID=America/Los_Angeles:20260523T080000
DTEND;TZID=America/Los_Angeles:20260523T170000
X-MICROSOFT-CDO-ALLDAYEVENT:FALSE
SUMMARY:Cruise for a Cause
DESCRIPTION:Cruise for a Cause Car Rally Fundraiser to support the Forgotten Soldier Program's branch called the  Rally Point Collective\, an outdoor program for veterans and first responders. These adventures are guided by peer to peer veterans & first responders seen by our program. We believe in the benefit of outdoor experiences as a healing tool with like minded people. Open for vendors - Contact Donna
X-ALT-DESC;FMTTYPE=text/html:Cruise for a Cause Car Rally Fundraiser to support the Forgotten Soldier Program's branch called the  Rally Point Collective\, an outdoor program for veterans and first responders. These adventures are guided by peer to peer veterans & first responders seen by our program. We believe in the benefit of outdoor experiences as a healing tool with like minded people. Open for vendors - Contact Donna
LOCATION:991 Lincoln Way\, Auburn\, 95603 Auburn CA 95603
UID:e.4194.1440484
SEQUENCE:3
DTSTAMP:20260421T094104Z
URL:https://business.auburnchamber.net/chamber-events/Details/cruise-for-a-cause-1705480?sourceTypeId=Hub
END:VEVENT
END:VCALENDAR
