BEGIN:VCALENDAR
VERSION:2.0
PRODID:-//ChamberMaster//Event Calendar 2.0//EN
METHOD:PUBLISH
X-PUBLISHED-TTL:P1H
REFRESH-INTERVAL:P1H
CALSCALE:GREGORIAN
BEGIN:VTIMEZONE
TZID:America/Los_Angeles
BEGIN:DAYLIGHT
RRULE:FREQ=YEARLY;BYMONTH=3;BYDAY=2SU
DTSTART:20070101T000000
TZOFFSETFROM:-0800
TZOFFSETTO:-0700
TZNAME:Pacific Daylight Time
END:DAYLIGHT
BEGIN:STANDARD
RRULE:FREQ=YEARLY;BYMONTH=11;BYDAY=1SU
DTSTART:20070101T000000
TZOFFSETFROM:-0700
TZOFFSETTO:-0800
TZNAME:Pacific Standard Time
END:STANDARD
END:VTIMEZONE
BEGIN:VEVENT
DTSTART;TZID=America/Los_Angeles:20250815T170000
DTEND;TZID=America/Los_Angeles:20250815T210000
X-MICROSOFT-CDO-ALLDAYEVENT:FALSE
SUMMARY:Food Truck Fiesta
DESCRIPTION:This Friday\, August 15th\, ARD will host the annual Food Truck Fiesta at Recreation Park! This FREE TO ATTEND event will start at 5pm and feature 11 food trucks\, live music\, vendors\, wine and beer (from our favorite friends at Auburn Ale House)! Best of all\, the event is a great way to enjoy a beautiful park and spend time with your family and friends.\n\n\n\nAs always\, this event is a fundraiser for the Auburn Bike Park.\n\n\n\nFor more information\, please visit https://auburnrec.com/events/food-truck-fiesta/
X-ALT-DESC;FMTTYPE=text/html:This Friday\, August 15th\, ARD will host the annual Food Truck Fiesta at Recreation Park! This FREE TO ATTEND event will start at 5pm and feature 11 food trucks\, live music\, vendors\, wine and beer (from our favorite friends at Auburn Ale House)! Best of all\, the event is a great way to enjoy a beautiful park and spend time with your family and friends.\n\n\n\nAs always\, this event is a fundraiser for the Auburn Bike Park.\n\n\n\nFor more information\, please visit https://auburnrec.com/events/food-truck-fiesta/
LOCATION:123 Recreation Dr. Auburn 95603
UID:e.4194.1250186
SEQUENCE:3
DTSTAMP:20260421T094337Z
URL:https://business.auburnchamber.net/chamber-events/Details/food-truck-fiesta-1461673?sourceTypeId=Hub
END:VEVENT
END:VCALENDAR
