BEGIN:VCALENDAR
VERSION:2.0
PRODID:-//ChamberMaster//Event Calendar 2.0//EN
METHOD:PUBLISH
X-PUBLISHED-TTL:P1H
REFRESH-INTERVAL:P1H
CALSCALE:GREGORIAN
BEGIN:VTIMEZONE
TZID:America/Los_Angeles
BEGIN:DAYLIGHT
RRULE:FREQ=YEARLY;BYMONTH=3;BYDAY=2SU
DTSTART:20070101T000000
TZOFFSETFROM:-0800
TZOFFSETTO:-0700
TZNAME:Pacific Daylight Time
END:DAYLIGHT
BEGIN:STANDARD
RRULE:FREQ=YEARLY;BYMONTH=11;BYDAY=1SU
DTSTART:20070101T000000
TZOFFSETFROM:-0700
TZOFFSETTO:-0800
TZNAME:Pacific Standard Time
END:STANDARD
END:VTIMEZONE
BEGIN:VEVENT
DTSTART;TZID=America/Los_Angeles:20260613T173000
DTEND;TZID=America/Los_Angeles:20260613T210000
X-MICROSOFT-CDO-ALLDAYEVENT:FALSE
SUMMARY:The Forget Me Not Dinner
DESCRIPTION:5th Annual Forget Me Not Dinner is an evening of music\, dinning\, and fun. Tickets or sponsorship is available on line at www.forgottensoldierprogram.com \nThis event supports The Forgotten Soldier Program. The program has been a centralized\nlifeline for First Responders and Veterans for 2 decades . We are committed to helping\nthose suffering from line of duty trauma creating a crisis in their life.\nWe are able to provide this care at no charge because of your\ngenerous support.\nAll proceeds from the event go to providing healing services \nfor our Veterans\, 1st Responders and their families.
X-ALT-DESC;FMTTYPE=text/html:5th Annual Forget Me Not Dinner is an evening of music\, dinning\, and fun. Tickets or sponsorship is available on line at www.forgottensoldierprogram.com \nThis event supports The Forgotten Soldier Program. The program has been a centralized\nlifeline for First Responders and Veterans for 2 decades . We are committed to helping\nthose suffering from line of duty trauma creating a crisis in their life.\nWe are able to provide this care at no charge because of your\ngenerous support.\nAll proceeds from the event go to providing healing services \nfor our Veterans\, 1st Responders and their families.
LOCATION:995 Lincoln Way Auburn CA 95603
UID:e.4194.1440495
SEQUENCE:3
DTSTAMP:20260421T081708Z
URL:https://business.auburnchamber.net/chamber-events/Details/the-forget-me-not-dinner-1705491?sourceTypeId=Hub
END:VEVENT
END:VCALENDAR
